BEGIN:VCALENDAR
VERSION:2.0
PRODID:-//АНО ЦИО ПК - ECPv6.3.5//NONSGML v1.0//EN
CALSCALE:GREGORIAN
METHOD:PUBLISH
X-WR-CALNAME:АНО ЦИО ПК
X-ORIGINAL-URL:https://studyinperm.ru
X-WR-CALDESC:Мероприятия для АНО ЦИО ПК
REFRESH-INTERVAL;VALUE=DURATION:PT1H
X-Robots-Tag:noindex
X-PUBLISHED-TTL:PT1H
BEGIN:VTIMEZONE
TZID:Asia/Karachi
BEGIN:STANDARD
TZOFFSETFROM:+0500
TZOFFSETTO:+0500
TZNAME:PKT
DTSTART:20230101T000000
END:STANDARD
END:VTIMEZONE
BEGIN:VEVENT
DTSTART;TZID=Asia/Karachi:20230930T130000
DTEND;TZID=Asia/Karachi:20230930T170000
DTSTAMP:20260423T155854
CREATED:20230928T065804Z
LAST-MODIFIED:20240326T080411Z
UID:3736-1696078800-1696093200@studyinperm.ru
SUMMARY:В эту субботу\, 30 сентября\, состоится экскурсия на выставку "Оружие Победы"
DESCRIPTION:В эту субботу\, 30 сентября\, состоится экскурсия на выставку «Оружие Победы» \nВам расскажут о промышленности в Прикамье\, что здесь производилось раньше и что сейчас; об изготовлении разных видов вооружения в годы Второй мировой войны\, а также других интересных фактах развития региона. \nДля регистрации на экскурсию пишите 89922305058 (WhatsApp) \n\n30 сентября в 13:00\nЗавод Шпагина (ул. Советская\, 1Б)
URL:https://studyinperm.ru/event/v-etu-subbotu-30-sentyabrya-sostoitsya-ekskursiya-na-vystavku-oruzhie-pobedy/
LOCATION:Завод Шпагина\, (ул. Советская\, 1Б)\, Пермь\, Российская Федерация
CATEGORIES:Прошедшие мероприятия,Экскурсии
ATTACH;FMTTYPE=image/jpeg:https://studyinperm.ru/wp-content/uploads/2023/10/img-news-3.jpg
END:VEVENT
END:VCALENDAR