BEGIN:VCALENDAR
VERSION:2.0
PRODID:-//АНО ЦИО ПК - ECPv6.3.5//NONSGML v1.0//EN
CALSCALE:GREGORIAN
METHOD:PUBLISH
X-ORIGINAL-URL:https://studyinperm.ru
X-WR-CALDESC:Мероприятия для АНО ЦИО ПК
REFRESH-INTERVAL;VALUE=DURATION:PT1H
X-Robots-Tag:noindex
X-PUBLISHED-TTL:PT1H
BEGIN:VTIMEZONE
TZID:Asia/Karachi
BEGIN:STANDARD
TZOFFSETFROM:+0500
TZOFFSETTO:+0500
TZNAME:PKT
DTSTART:20240101T000000
END:STANDARD
END:VTIMEZONE
BEGIN:VEVENT
DTSTART;TZID=Asia/Karachi:20240429T193000
DTEND;TZID=Asia/Karachi:20240429T210000
DTSTAMP:20260423T032303
CREATED:20240326T063230Z
LAST-MODIFIED:20240326T064041Z
UID:4009-1714419000-1714424400@studyinperm.ru
SUMMARY:Экскурсия по таинственным местам Перми! Интересно?
DESCRIPTION:Если вы любите легенды о странных\, мистических и волшебных явлениях\, в истории города Перми их множество!\n⠀\nХодят слухи\, что в городе протекает река Стикс и что у нас есть дома с кикиморой и привидениями…\n⠀\nПриглашаем вас в эту субботу прогуляться по самым мистическим местам города вместе с интересным гидом!\n⠀\nКоличество мест ограничено\, пожалуйста\, успевайте записаться.\n⠀\nМесто встречи 16 сентября – у Пермского театра кукол\, по адресу: улица Сибирская\, 65. Время сбора – при регистрации.\n⠀\nЭкскурсия бесплатная. Количество мест ограничено\, необходимо заранее записаться по номеру 89922305058 (WhatsApp).
URL:https://studyinperm.ru/event/ekskursiya-po-tainstvennym-mestam-permi-interesno/
LOCATION:Пермский театр кукол\, ул.Сибирская\, 65\, Пермь\, Российская Федерация
CATEGORIES:Будущие мероприятия,Экскурсии
ATTACH;FMTTYPE=image/jpeg:https://studyinperm.ru/wp-content/uploads/2023/10/img-news-10.jpg
END:VEVENT
END:VCALENDAR