BEGIN:VCALENDAR
VERSION:2.0
PRODID:-//АНО ЦИО ПК - ECPv6.3.5//NONSGML v1.0//EN
CALSCALE:GREGORIAN
METHOD:PUBLISH
X-ORIGINAL-URL:https://studyinperm.ru
X-WR-CALDESC:Мероприятия для АНО ЦИО ПК
REFRESH-INTERVAL;VALUE=DURATION:PT1H
X-Robots-Tag:noindex
X-PUBLISHED-TTL:PT1H
BEGIN:VTIMEZONE
TZID:Asia/Karachi
BEGIN:STANDARD
TZOFFSETFROM:+0500
TZOFFSETTO:+0500
TZNAME:PKT
DTSTART:20240101T000000
END:STANDARD
END:VTIMEZONE
BEGIN:VEVENT
DTSTART;TZID=Asia/Karachi:20240323T160000
DTEND;TZID=Asia/Karachi:20240323T190000
DTSTAMP:20260423T062702
CREATED:20240322T072813Z
LAST-MODIFIED:20240326T080406Z
UID:3745-1711209600-1711220400@studyinperm.ru
SUMMARY:Приглашаем участников Дискуссионного клуба «Про жизнь» на очередное заседание
DESCRIPTION:Второе в этом году заседание пройдет по теме «Адаптация иностранных обучающихся».\nПланируется обсуждение вопросов социализации\, обмен опытом\, общение по другим актуальным темам. \nПриглашаем желающих посетить наш Дискуссионный клуб\, найти единомышленников и новых друзей.
URL:https://studyinperm.ru/event/priglashaem-uchastnikov-diskussionnogo-kluba-pro-zhizn-na-ocherednoe-zasedanie/
LOCATION:Завод Шпагина\, (ул. Советская\, 1Б)\, Пермь\, Российская Федерация
CATEGORIES:Дискуссионный клуб,Прошедшие мероприятия
ATTACH;FMTTYPE=image/jpeg:https://studyinperm.ru/wp-content/uploads/2024/03/2RxndsYvifs.jpg
END:VEVENT
END:VCALENDAR